Workbook

Sheet Annual State Data
A1: Year | B1: State / Jurisdiction | C1: Q4 Antipsychotic Receipt Rate | D1: Receipt Rate Rank (50 States) | E1: F758 Citations | F1: % Active Providers Cited under F758 | G1: Provider Citation Rate Rank (50 States) | H1: F758 G+ Citations | I1: G+ Share of F758 Citations
A2: 2022 | B2: Alabama | C2: 0.2433 | D2: =IF(OR(B2="District of Columbia",B2="Puerto Rico"),"",1+COUNTIFS($A$2:$A$157,A2,$C$2:$C$157,">"&C2,$B$2:$B$157,"<>District of Columbia",$B$2:$B$157,"<>Puerto Rico")) -> 7 | E2: 10 | F2: 0.044 | G2: =IF(OR(B2="District of Columbia",B2="Puerto Rico"),"",1+COUNTIFS($A$2:$A$157,A2,$F$2:$F$157,">"&F2,$B$2:$B$157,"<>District of Columbia",$B$2:$B$157,"<>Puerto Rico")) -> 41 | H2: 0 | I2: =IF(E2>0,H2/E2,"") -> 0
A3: 2022 | B3: Alaska | C3: 0.1698 | D3: =IF(OR(B3="District of Columbia",B3="Puerto Rico"),"",1+COUNTIFS($A$2:$A$157,A3,$C$2:$C$157,">"&C3,$B$2:$B$157,"<>District of Columbia",$B$2:$B$157,"<>Puerto Rico")) -> 45 | E3: 2 | F3: 0.1 | G3: =IF(OR(B3="District of Columbia",B3="Puerto Rico"),"",1+COUNTIFS($A$2:$A$157,A3,$F$2:$F$157,">"&F3,$B$2:$B$157,"<>District of Columbia",$B$2:$B$157,"<>Puerto Rico")) -> 24 | H3: 0 | I3: =IF(E3>0,H3/E3,"") -> 0
A4: 2022 | B4: Arizona | C4: 0.1918 | D4: =IF(OR(B4="District of Columbia",B4="Puerto Rico"),"",1+COUNTIFS($A$2:$A$157,A4,$C$2:$C$157,">"&C4,$B$2:$B$157,"<>District of Columbia",$B$2:$B$157,"<>Puerto Rico")) -> 36 | E4: 33 | F4: 0.221 | G4: =IF(OR(B4="District of Columbia",B4="Puerto Rico"),"",1+COUNTIFS($A$2:$A$157,A4,$F$2:$F$157,">"&F4,$B$2:$B$157,"<>District of Columbia",$B$2:$B$157,"<>Puerto Rico")) -> 5 | H4: 0 | I4: =IF(E4>0,H4/E4,"") -> 0
A5: 2022 | B5: Arkansas | C5: 0.1733 | D5: =IF(OR(B5="District of Columbia",B5="Puerto Rico"),"",1+COUNTIFS($A$2:$A$157,A5,$C$2:$C$157,">"&C5,$B$2:$B$157,"<>District of Columbia",$B$2:$B$157,"<>Puerto Rico")) -> 42 | E5: 19 | F5: 0.079 | G5: =IF(OR(B5="District of Columbia",B5="Puerto Rico"),"",1+COUNTIFS($A$2:$A$157,A5,$F$2:$F$157,">"&F5,$B$2:$B$157,"<>District of Columbia",$B$2:$B$157,"<>Puerto Rico")) -> 31 | H5: 0 | I5: =IF(E5>0,H5/E5,"") -> 0
A6: 2022 | B6: California | C6: 0.2277 | D6: =IF(OR(B6="District of Columbia",B6="Puerto Rico"),"",1+COUNTIFS($A$2:$A$157,A6,$C$2:$C$157,">"&C6,$B$2:$B$157,"<>District of Columbia",$B$2:$B$157,"<>Puerto Rico")) -> 15 | E6: 165 | F6: 0.135 | G6: =IF(OR(B6="District of Columbia",B6="Puerto Rico"),"",1+COUNTIFS($A$2:$A$157,A6,$F$2:$F$157,">"&F6,$B$2:$B$157,"<>District of Columbia",$B$2:$B$157,"<>Puerto Rico")) -> 16 | H6: 3 | I6: =IF(E6>0,H6/E6,"") -> 0.018181818
A7: 2022 | B7: Colorado | C7: 0.2125 | D7: =IF(OR(B7="District of Columbia",B7="Puerto Rico"),"",1+COUNTIFS($A$2:$A$157,A7,$C$2:$C$157,">"&C7,$B$2:$B$157,"<>District of Columbia",$B$2:$B$157,"<>Puerto Rico")) -> 25 | E7: 21 | F7: 0.094 | G7: =IF(OR(B7="District of Columbia",B7="Puerto Rico"),"",1+COUNTIFS($A$2:$A$157,A7,$F$2:$F$157,">"&F7,$B$2:$B$157,"<>District of Columbia",$B$2:$B$157,"<>Puerto Rico")) -> 26 | H7: 0 | I7: =IF(E7>0,H7/E7,"") -> 0
A8: 2022 | B8: Connecticut | C8: 0.2346 | D8: =IF(OR(B8="District of Columbia",B8="Puerto Rico"),"",1+COUNTIFS($A$2:$A$157,A8,$C$2:$C$157,">"&C8,$B$2:$B$157,"<>District of Columbia",$B$2:$B$157,"<>Puerto Rico")) -> 12 | E8: 8 | F8: 0.034 | G8: =IF(OR(B8="District of Columbia",B8="Puerto Rico"),"",1+COUNTIFS($A$2:$A$157,A8,$F$2:$F$157,">"&F8,$B$2:$B$157,"<>District of Columbia",$B$2:$B$157,"<>Puerto Rico")) -> 42 | H8: 0 | I8: =IF(E8>0,H8/E8,"") -> 0
A9: 2022 | B9: Delaware | C9: 0.1615 | D9: =IF(OR(B9="District of Columbia",B9="Puerto Rico"),"",1+COUNTIFS($A$2:$A$157,A9,$C$2:$C$157,">"&C9,$B$2:$B$157,"<>District of Columbia",$B$2:$B$157,"<>Puerto Rico")) -> 49 | E9: 5 | F9: 0.111 | G9: =IF(OR(B9="District of Columbia",B9="Puerto Rico"),"",1+COUNTIFS($A$2:$A$157,A9,$F$2:$F$157,">"&F9,$B$2:$B$157,"<>District of Columbia",$B$2:$B$157,"<>Puerto Rico")) -> 20 | H9: 0 | I9: =IF(E9>0,H9/E9,"") -> 0
A10: 2022 | B10: Florida | C10: 0.1706 | D10: =IF(OR(B10="District of Columbia",B10="Puerto Rico"),"",1+COUNTIFS($A$2:$A$157,A10,$C$2:$C$157,">"&C10,$B$2:$B$157,"<>District of Columbia",$B$2:$B$157,"<>Puerto Rico")) -> 43 | E10: 37 | F10: 0.051 | G10: =IF(OR(B10="District of Columbia",B10="Puerto Rico"),"",1+COUNTIFS($A$2:$A$157,A10,$F$2:$F$157,">"&F10,$B$2:$B$157,"<>District of Columbia",$B$2:$B$157,"<>Puerto Rico")) -> 38 | H10: 0 | I10: =IF(E10>0,H10/E10,"") -> 0
A11: 2022 | B11: Georgia | C11: 0.2278 | D11: =IF(OR(B11="District of Columbia",B11="Puerto Rico"),"",1+COUNTIFS($A$2:$A$157,A11,$C$2:$C$157,">"&C11,$B$2:$B$157,"<>District of Columbia",$B$2:$B$157,"<>Puerto Rico")) -> 14 | E11: 40 | F11: 0.074 | G11: =IF(OR(B11="District of Columbia",B11="Puerto Rico"),"",1+COUNTIFS($A$2:$A$157,A11,$F$2:$F$157,">"&F11,$B$2:$B$157,"<>District of Columbia",$B$2:$B$157,"<>Puerto Rico")) -> 34 | H11: 0 | I11: =IF(E11>0,H11/E11,"") -> 0
A12: 2022 | B12: Hawaii | C12: 0.1179 | D12: =IF(OR(B12="District of Columbia",B12="Puerto Rico"),"",1+COUNTIFS($A$2:$A$157,A12,$C$2:$C$157,">"&C12,$B$2:$B$157,"<>District of Columbia",$B$2:$B$157,"<>Puerto Rico")) -> 50 | E12: 4 | F12: 0.089 | G12: =IF(OR(B12="District of Columbia",B12="Puerto Rico"),"",1+COUNTIFS($A$2:$A$157,A12,$F$2:$F$157,">"&F12,$B$2:$B$157,"<>District of Columbia",$B$2:$B$157,"<>Puerto Rico")) -> 27 | H12: 0 | I12: =IF(E12>0,H12/E12,"") -> 0
A13: 2022 | B13: Idaho | C13: 0.2187 | D13: =IF(OR(B13="District of Columbia",B13="Puerto Rico"),"",1+COUNTIFS($A$2:$A$157,A13,$C$2:$C$157,">"&C13,$B$2:$B$157,"<>District of Columbia",$B$2:$B$157,"<>Puerto Rico")) -> 17 | E13: 2 | F13: 0.012 | G13: =IF(OR(B13="District of Columbia",B13="Puerto Rico"),"",1+COUNTIFS($A$2:$A$157,A13,$F$2:$F$157,">"&F13,$B$2:$B$157,"<>District of Columbia",$B$2:$B$157,"<>Puerto Rico")) -> 49 | H13: 0 | I13: =IF(E13>0,H13/E13,"") -> 0
... A157: 2024 | B157: Puerto Rico | C157: 0.0952 | D157: =IF(OR(B157="District of Columbia",B157="Puerto Rico"),"",1+COUNTIFS($A$2:$A$157,A157,$C$2:$C$157,">"&C157,$B$2:$B$157,"<>District of Columbia",$B$2:$B$157,"<>Puerto Rico")) | E157: 0 | F157: 0 | G157: =IF(OR(B157="District of Columbia",B157="Puerto Rico"),"",1+COUNTIFS($A$2:$A$157,A157,$F$2:$F$157,">"&F157,$B$2:$B$157,"<>District of Columbia",$B$2:$B$157,"<>Puerto Rico")) | H157: 0 | I157: =IF(E157>0,H157/E157,"")

Sheet 3-Year State Comparison
A1: State / Jurisdiction | B1: Mean Q4 Antipsychotic Receipt Rate (2022–2024) | C1: Receipt Rate Rank (50 States) | D1: Mean Annual % Active Providers Cited under F758 | E1: Provider Citation Rate Rank (50 States) | F1: Total F758 Citations (2022–2024) | G1: Total F758 G+ Citations (2022–2024) | H1: 3-Year G+ Share of F758 Citations
A2: Alabama | B2: =SUMIF('Annual State Data'!$B$2:$B$157,A2,'Annual State Data'!$C$2:$C$157)/COUNTIF('Annual State Data'!$B$2:$B$157,A2) -> 0.25336667 | C2: =IF(OR(A2="District of Columbia",A2="Puerto Rico"),"",1+COUNTIFS($B$2:$B$53,">"&B2,$A$2:$A$53,"<>District of Columbia",$A$2:$A$53,"<>Puerto Rico")) -> 5 | D2: =SUMIF('Annual State Data'!$B$2:$B$157,A2,'Annual State Data'!$F$2:$F$157)/3 -> 0.019 | E2: =IF(OR(A2="District of Columbia",A2="Puerto Rico"),"",1+COUNTIFS($D$2:$D$53,">"&D2,$A$2:$A$53,"<>District of Columbia",$A$2:$A$53,"<>Puerto Rico")) -> 48 | F2: =SUMIF('Annual State Data'!$B$2:$B$157,A2,'Annual State Data'!$E$2:$E$157) -> 14 | G2: =SUMIF('Annual State Data'!$B$2:$B$157,A2,'Annual State Data'!$H$2:$H$157) -> 0 | H2: =IF(F2>0,G2/F2,"") -> 0
A3: Alaska | B3: =SUMIF('Annual State Data'!$B$2:$B$157,A3,'Annual State Data'!$C$2:$C$157)/COUNTIF('Annual State Data'!$B$2:$B$157,A3) -> 0.1748 | C3: =IF(OR(A3="District of Columbia",A3="Puerto Rico"),"",1+COUNTIFS($B$2:$B$53,">"&B3,$A$2:$A$53,"<>District of Columbia",$A$2:$A$53,"<>Puerto Rico")) -> 43 | D3: =SUMIF('Annual State Data'!$B$2:$B$157,A3,'Annual State Data'!$F$2:$F$157)/3 -> 0.083333333 | E3: =IF(OR(A3="District of Columbia",A3="Puerto Rico"),"",1+COUNTIFS($D$2:$D$53,">"&D3,$A$2:$A$53,"<>District of Columbia",$A$2:$A$53,"<>Puerto Rico")) -> 32 | F3: =SUMIF('Annual State Data'!$B$2:$B$157,A3,'Annual State Data'!$E$2:$E$157) -> 5 | G3: =SUMIF('Annual State Data'!$B$2:$B$157,A3,'Annual State Data'!$H$2:$H$157) -> 0 | H3: =IF(F3>0,G3/F3,"") -> 0
A4: Arizona | B4: =SUMIF('Annual State Data'!$B$2:$B$157,A4,'Annual State Data'!$C$2:$C$157)/COUNTIF('Annual State Data'!$B$2:$B$157,A4) -> 0.19136667 | C4: =IF(OR(A4="District of Columbia",A4="Puerto Rico"),"",1+COUNTIFS($B$2:$B$53,">"&B4,$A$2:$A$53,"<>District of Columbia",$A$2:$A$53,"<>Puerto Rico")) -> 35 | D4: =SUMIF('Annual State Data'!$B$2:$B$157,A4,'Annual State Data'!$F$2:$F$157)/3 -> 0.111 | E4: =IF(OR(A4="District of Columbia",A4="Puerto Rico"),"",1+COUNTIFS($D$2:$D$53,">"&D4,$A$2:$A$53,"<>District of Columbia",$A$2:$A$53,"<>Puerto Rico")) -> 23 | F4: =SUMIF('Annual State Data'!$B$2:$B$157,A4,'Annual State Data'!$E$2:$E$157) -> 51 | G4: =SUMIF('Annual State Data'!$B$2:$B$157,A4,'Annual State Data'!$H$2:$H$157) -> 0 | H4: =IF(F4>0,G4/F4,"") -> 0
A5: Arkansas | B5: =SUMIF('Annual State Data'!$B$2:$B$157,A5,'Annual State Data'!$C$2:$C$157)/COUNTIF('Annual State Data'!$B$2:$B$157,A5) -> 0.17043333 | C5: =IF(OR(A5="District of Columbia",A5="Puerto Rico"),"",1+COUNTIFS($B$2:$B$53,">"&B5,$A$2:$A$53,"<>District of Columbia",$A$2:$A$53,"<>Puerto Rico")) -> 45 | D5: =SUMIF('Annual State Data'!$B$2:$B$157,A5,'Annual State Data'!$F$2:$F$157)/3 -> 0.056 | E5: =IF(OR(A5="District of Columbia",A5="Puerto Rico"),"",1+COUNTIFS($D$2:$D$53,">"&D5,$A$2:$A$53,"<>District of Columbia",$A$2:$A$53,"<>Puerto Rico")) -> 42 | F5: =SUMIF('Annual State Data'!$B$2:$B$157,A5,'Annual State Data'!$E$2:$E$157) -> 39 | G5: =SUMIF('Annual State Data'!$B$2:$B$157,A5,'Annual State Data'!$H$2:$H$157) -> 0 | H5: =IF(F5>0,G5/F5,"") -> 0
A6: California | B6: =SUMIF('Annual State Data'!$B$2:$B$157,A6,'Annual State Data'!$C$2:$C$157)/COUNTIF('Annual State Data'!$B$2:$B$157,A6) -> 0.217 | C6: =IF(OR(A6="District of Columbia",A6="Puerto Rico"),"",1+COUNTIFS($B$2:$B$53,">"&B6,$A$2:$A$53,"<>District of Columbia",$A$2:$A$53,"<>Puerto Rico")) -> 21 | D6: =SUMIF('Annual State Data'!$B$2:$B$157,A6,'Annual State Data'!$F$2:$F$157)/3 -> 0.18466667 | E6: =IF(OR(A6="District of Columbia",A6="Puerto Rico"),"",1+COUNTIFS($D$2:$D$53,">"&D6,$A$2:$A$53,"<>District of Columbia",$A$2:$A$53,"<>Puerto Rico")) -> 10 | F6: =SUMIF('Annual State Data'!$B$2:$B$157,A6,'Annual State Data'!$E$2:$E$157) -> 689 | G6: =SUMIF('Annual State Data'!$B$2:$B$157,A6,'Annual State Data'!$H$2:$H$157) -> 9 | H6: =IF(F6>0,G6/F6,"") -> 0.013062409
A7: Colorado | B7: =SUMIF('Annual State Data'!$B$2:$B$157,A7,'Annual State Data'!$C$2:$C$157)/COUNTIF('Annual State Data'!$B$2:$B$157,A7) -> 0.22236667 | C7: =IF(OR(A7="District of Columbia",A7="Puerto Rico"),"",1+COUNTIFS($B$2:$B$53,">"&B7,$A$2:$A$53,"<>District of Columbia",$A$2:$A$53,"<>Puerto Rico")) -> 16 | D7: =SUMIF('Annual State Data'!$B$2:$B$157,A7,'Annual State Data'!$F$2:$F$157)/3 -> 0.086666667 | E7: =IF(OR(A7="District of Columbia",A7="Puerto Rico"),"",1+COUNTIFS($D$2:$D$53,">"&D7,$A$2:$A$53,"<>District of Columbia",$A$2:$A$53,"<>Puerto Rico")) -> 30 | F7: =SUMIF('Annual State Data'!$B$2:$B$157,A7,'Annual State Data'!$E$2:$E$157) -> 57 | G7: =SUMIF('Annual State Data'!$B$2:$B$157,A7,'Annual State Data'!$H$2:$H$157) -> 1 | H7: =IF(F7>0,G7/F7,"") -> 0.01754386
A8: Connecticut | B8: =SUMIF('Annual State Data'!$B$2:$B$157,A8,'Annual State Data'!$C$2:$C$157)/COUNTIF('Annual State Data'!$B$2:$B$157,A8) -> 0.23716667 | C8: =IF(OR(A8="District of Columbia",A8="Puerto Rico"),"",1+COUNTIFS($B$2:$B$53,">"&B8,$A$2:$A$53,"<>District of Columbia",$A$2:$A$53,"<>Puerto Rico")) -> 11 | D8: =SUMIF('Annual State Data'!$B$2:$B$157,A8,'Annual State Data'!$F$2:$F$157)/3 -> 0.064666667 | E8: =IF(OR(A8="District of Columbia",A8="Puerto Rico"),"",1+COUNTIFS($D$2:$D$53,">"&D8,$A$2:$A$53,"<>District of Columbia",$A$2:$A$53,"<>Puerto Rico")) -> 40 | F8: =SUMIF('Annual State Data'!$B$2:$B$157,A8,'Annual State Data'!$E$2:$E$157) -> 41 | G8: =SUMIF('Annual State Data'!$B$2:$B$157,A8,'Annual State Data'!$H$2:$H$157) -> 0 | H8: =IF(F8>0,G8/F8,"") -> 0
A9: Delaware | B9: =SUMIF('Annual State Data'!$B$2:$B$157,A9,'Annual State Data'!$C$2:$C$157)/COUNTIF('Annual State Data'!$B$2:$B$157,A9) -> 0.1507 | C9: =IF(OR(A9="District of Columbia",A9="Puerto Rico"),"",1+COUNTIFS($B$2:$B$53,">"&B9,$A$2:$A$53,"<>District of Columbia",$A$2:$A$53,"<>Puerto Rico")) -> 49 | D9: =SUMIF('Annual State Data'!$B$2:$B$157,A9,'Annual State Data'!$F$2:$F$157)/3 -> 0.17366667 | E9: =IF(OR(A9="District of Columbia",A9="Puerto Rico"),"",1+COUNTIFS($D$2:$D$53,">"&D9,$A$2:$A$53,"<>District of Columbia",$A$2:$A$53,"<>Puerto Rico")) -> 11 | F9: =SUMIF('Annual State Data'!$B$2:$B$157,A9,'Annual State Data'!$E$2:$E$157) -> 26 | G9: =SUMIF('Annual State Data'!$B$2:$B$157,A9,'Annual State Data'!$H$2:$H$157) -> 0 | H9: =IF(F9>0,G9/F9,"") -> 0
A10: Florida | B10: =SUMIF('Annual State Data'!$B$2:$B$157,A10,'Annual State Data'!$C$2:$C$157)/COUNTIF('Annual State Data'!$B$2:$B$157,A10) -> 0.15446667 | C10: =IF(OR(A10="District of Columbia",A10="Puerto Rico"),"",1+COUNTIFS($B$2:$B$53,">"&B10,$A$2:$A$53,"<>District of Columbia",$A$2:$A$53,"<>Puerto Rico")) -> 48 | D10: =SUMIF('Annual State Data'!$B$2:$B$157,A10,'Annual State Data'!$F$2:$F$157)/3 -> 0.041333333 | E10: =IF(OR(A10="District of Columbia",A10="Puerto Rico"),"",1+COUNTIFS($D$2:$D$53,">"&D10,$A$2:$A$53,"<>District of Columbia",$A$2:$A$53,"<>Puerto Rico")) -> 44 | F10: =SUMIF('Annual State Data'!$B$2:$B$157,A10,'Annual State Data'!$E$2:$E$157) -> 90 | G10: =SUMIF('Annual State Data'!$B$2:$B$157,A10,'Annual State Data'!$H$2:$H$157) -> 0 | H10: =IF(F10>0,G10/F10,"") -> 0
A11: Georgia | B11: =SUMIF('Annual State Data'!$B$2:$B$157,A11,'Annual State Data'!$C$2:$C$157)/COUNTIF('Annual State Data'!$B$2:$B$157,A11) -> 0.23183333 | C11: =IF(OR(A11="District of Columbia",A11="Puerto Rico"),"",1+COUNTIFS($B$2:$B$53,">"&B11,$A$2:$A$53,"<>District of Columbia",$A$2:$A$53,"<>Puerto Rico")) -> 13 | D11: =SUMIF('Annual State Data'!$B$2:$B$157,A11,'Annual State Data'!$F$2:$F$157)/3 -> 0.080333333 | E11: =IF(OR(A11="District of Columbia",A11="Puerto Rico"),"",1+COUNTIFS($D$2:$D$53,">"&D11,$A$2:$A$53,"<>District of Columbia",$A$2:$A$53,"<>Puerto Rico")) -> 33 | F11: =SUMIF('Annual State Data'!$B$2:$B$157,A11,'Annual State Data'!$E$2:$E$157) -> 128 | G11: =SUMIF('Annual State Data'!$B$2:$B$157,A11,'Annual State Data'!$H$2:$H$157) -> 0 | H11: =IF(F11>0,G11/F11,"") -> 0
A12: Hawaii | B12: =SUMIF('Annual State Data'!$B$2:$B$157,A12,'Annual State Data'!$C$2:$C$157)/COUNTIF('Annual State Data'!$B$2:$B$157,A12) -> 0.12443333 | C12: =IF(OR(A12="District of Columbia",A12="Puerto Rico"),"",1+COUNTIFS($B$2:$B$53,">"&B12,$A$2:$A$53,"<>District of Columbia",$A$2:$A$53,"<>Puerto Rico")) -> 50 | D12: =SUMIF('Annual State Data'!$B$2:$B$157,A12,'Annual State Data'!$F$2:$F$157)/3 -> 0.10733333 | E12: =IF(OR(A12="District of Columbia",A12="Puerto Rico"),"",1+COUNTIFS($D$2:$D$53,">"&D12,$A$2:$A$53,"<>District of Columbia",$A$2:$A$53,"<>Puerto Rico")) -> 24 | F12: =SUMIF('Annual State Data'!$B$2:$B$157,A12,'Annual State Data'!$E$2:$E$157) -> 15 | G12: =SUMIF('Annual State Data'!$B$2:$B$157,A12,'Annual State Data'!$H$2:$H$157) -> 0 | H12: =IF(F12>0,G12/F12,"") -> 0
A13: Idaho | B13: =SUMIF('Annual State Data'!$B$2:$B$157,A13,'Annual State Data'!$C$2:$C$157)/COUNTIF('Annual State Data'!$B$2:$B$157,A13) -> 0.21536667 | C13: =IF(OR(A13="District of Columbia",A13="Puerto Rico"),"",1+COUNTIFS($B$2:$B$53,">"&B13,$A$2:$A$53,"<>District of Columbia",$A$2:$A$53,"<>Puerto Rico")) -> 25 | D13: =SUMIF('Annual State Data'!$B$2:$B$157,A13,'Annual State Data'!$F$2:$F$157)/3 -> 0.062 | E13: =IF(OR(A13="District of Columbia",A13="Puerto Rico"),"",1+COUNTIFS($D$2:$D$53,">"&D13,$A$2:$A$53,"<>District of Columbia",$A$2:$A$53,"<>Puerto Rico")) -> 41 | F13: =SUMIF('Annual State Data'!$B$2:$B$157,A13,'Annual State Data'!$E$2:$E$157) -> 28 | G13: =SUMIF('Annual State Data'!$B$2:$B$157,A13,'Annual State Data'!$H$2:$H$157) -> 0 | H13: =IF(F13>0,G13/F13,"") -> 0
... A53: Puerto Rico | B53: =SUMIF('Annual State Data'!$B$2:$B$157,A53,'Annual State Data'!$C$2:$C$157)/COUNTIF('Annual State Data'!$B$2:$B$157,A53) -> 0.12696667 | C53: =IF(OR(A53="District of Columbia",A53="Puerto Rico"),"",1+COUNTIFS($B$2:$B$53,">"&B53,$A$2:$A$53,"<>District of Columbia",$A$2:$A$53,"<>Puerto Rico")) | D53: =SUMIF('Annual State Data'!$B$2:$B$157,A53,'Annual State Data'!$F$2:$F$157)/3 -> 0 | E53: =IF(OR(A53="District of Columbia",A53="Puerto Rico"),"",1+COUNTIFS($D$2:$D$53,">"&D53,$A$2:$A$53,"<>District of Columbia",$A$2:$A$53,"<>Puerto Rico")) | F53: =SUMIF('Annual State Data'!$B$2:$B$157,A53,'Annual State Data'!$E$2:$E$157) -> 0 | G53: =SUMIF('Annual State Data'!$B$2:$B$157,A53,'Annual State Data'!$H$2:$H$157) -> 0 | H53: =IF(F53>0,G53/F53,"")

Sheet Notes
A1: Purpose | B1: This workbook brings together state-level CMS Minimum Data Set (MDS) antipsychotic receipt data and CMS QCOR F758 citation data for 2022–2024. It is intended to support transparent state comparisons while preserving the important methodological differences between the two measures.
A2: MDS source | B2: Centers for Medicare & Medicaid Services (CMS), MDS Frequency data, N0450A. Source: https://data.cms.gov/quality-of-care/minimum-data-set-frequency/data
A3: MDS measure | B3: N0450A identifies whether a resident received an antipsychotic since admission/entry/reentry or the prior OBRA assessment, whichever is more recent. The Q4 receipt rate is calculated as 100% minus the CMS percentage reported as “No - Antipsychotics not received.” This avoids distortion from CMS suppression of small individual “Yes” response categories.
A4: MDS timing | B4: MDS values are Q4 observations for each year. They are not annual averages and do not represent unique residents over the course of a year.
A5: Different from CMS quality measure | B5: These MDS N0450A receipt rates should not be directly compared with CMS’s publicly reported long-stay antipsychotic quality measure, which uses different resident populations, methods for measuring antipsychotic use, and diagnostic exclusions.
A6: QCOR source | B6: CMS Quality, Certification and Oversight Reports (QCOR), F758 — Free From Unnecessary Psychotropic Medications/PRN Use. Source: https://qcor.cms.gov/main.jsp
A7: QCOR timing | B7: F758 citation data reflect the full calendar year.
A8: QCOR geography and missing rows | B8: The raw QCOR query selection criteria included the 50 states, District of Columbia, Puerto Rico, Guam, and other territories. The returned annual F758 state results contain all 50 states, including Alaska. District of Columbia and Puerto Rico were selected but had no returned F758 result rows; the combined tables record these as zero citations and 0.0% of providers cited. Guam and other territories are excluded from this study.
A9: G+ treatment | B9: G+ means scope/severity G or above: actual harm or immediate jeopardy. When a selected jurisdiction is absent from the corresponding G+ output, the combined table records zero G+ citations. The G+ share is left blank when there are zero total F758 citations because the percentage is undefined.
A10: State-output vs national QCOR results | B10: The 50 state F758 rows sum to 1,781 citations in 2022, 1,781 in 2023, and 2,032 in 2024, matching the QCOR national figures used in LTCCC’s report. National results should nevertheless continue to be taken from the national QCOR output rather than reconstructed from state results. CMS cautions that QCOR data, including provider/supplier counts and percentages, are valid for the subset of providers or suppliers for which survey records are available in CASPER.
A11: Receipt-rate rankings | B11: Antipsychotic receipt-rate rankings are descriptive and are limited to the 50 states; District of Columbia and Puerto Rico are displayed but not ranked. Rank 1 represents the highest reported receipt rate.
A12: Provider-citation rankings | B12: Provider citation-rate rankings are descriptive and are limited to the 50 states; District of Columbia and Puerto Rico are displayed but not ranked. Rank 1 represents the highest percentage of active providers cited. Citation frequency reflects what the survey agency identified.
... A16: Study geographical coverage | B16: The combined workbook displays the 50 states, District of Columbia, and Puerto Rico. Guam is excluded, consistent with LTCCC’s study methodology.
