BEGIN:VCALENDAR
VERSION:2.0
PRODID:-//NursingHome411 - ECPv6.14.2//NONSGML v1.0//EN
CALSCALE:GREGORIAN
METHOD:PUBLISH
X-ORIGINAL-URL:https://nursinghome411.org
X-WR-CALDESC:Events for NursingHome411
REFRESH-INTERVAL;VALUE=DURATION:PT1H
X-Robots-Tag:noindex
X-PUBLISHED-TTL:PT1H
BEGIN:VTIMEZONE
TZID:America/New_York
BEGIN:DAYLIGHT
TZOFFSETFROM:-0500
TZOFFSETTO:-0400
TZNAME:EDT
DTSTART:20230312T070000
END:DAYLIGHT
BEGIN:STANDARD
TZOFFSETFROM:-0400
TZOFFSETTO:-0500
TZNAME:EST
DTSTART:20231105T060000
END:STANDARD
END:VTIMEZONE
BEGIN:VEVENT
DTSTART;TZID=America/New_York:20230718T130000
DTEND;TZID=America/New_York:20230718T140000
DTSTAMP:20260425T113451
CREATED:20230620T170827Z
LAST-MODIFIED:20230630T135623Z
UID:18223-1689685200-1689688800@nursinghome411.org
SUMMARY:Uninspected and Neglected: What Vacancies at State Agencies Mean for Nursing Home Residents
DESCRIPTION:Program: Uninspected and Neglected: What Vacancies at State Agencies Mean for Nursing Home Residents\nDescription: Peter Gartrell (U.S. Senate Special Committee on Aging) and Suzanne Messenger (West Virginia State Long-term Care Ombudsman) discuss how staffing issues in inspection agencies put nursing home residents at risk. \nDate: Tuesday\, July 18\, 1pm (ET) \nRegistration: bit.ly/nh411-july2023
URL:https://nursinghome411.org/event/july-2023-webinar/
LOCATION:Zoom
CATEGORIES:Upcoming,Webinar
ATTACH;FMTTYPE=image/jpeg:https://nursinghome411.org/wp-content/uploads/2020/06/laptopphoto-e1592341849280.jpg
END:VEVENT
END:VCALENDAR