BEGIN:VCALENDAR
VERSION:2.0
PRODID:-//NursingHome411 - ECPv6.14.2//NONSGML v1.0//EN
CALSCALE:GREGORIAN
METHOD:PUBLISH
X-ORIGINAL-URL:https://nursinghome411.org
X-WR-CALDESC:Events for NursingHome411
REFRESH-INTERVAL;VALUE=DURATION:PT1H
X-Robots-Tag:noindex
X-PUBLISHED-TTL:PT1H
BEGIN:VTIMEZONE
TZID:America/New_York
BEGIN:DAYLIGHT
TZOFFSETFROM:-0500
TZOFFSETTO:-0400
TZNAME:EDT
DTSTART:20250309T070000
END:DAYLIGHT
BEGIN:STANDARD
TZOFFSETFROM:-0400
TZOFFSETTO:-0500
TZNAME:EST
DTSTART:20251102T060000
END:STANDARD
END:VTIMEZONE
BEGIN:VEVENT
DTSTART;TZID=America/New_York:20250520T130000
DTEND;TZID=America/New_York:20250520T140000
DTSTAMP:20260425T130914
CREATED:20250410T181133Z
LAST-MODIFIED:20250514T172753Z
UID:23097-1747746000-1747749600@nursinghome411.org
SUMMARY:May 2025 Webinar: The Historic Impact of COVID-19 on Nursing Homes and the Failed Response
DESCRIPTION:Topic: The Historic Impact of COVID-19 on Nursing Homes and the Failed Response\nDate/Time: May 20\, 2025 at 1pm ET\nRegister: https://bit.ly/may-2025-webinar
URL:https://nursinghome411.org/event/may-2025-webinar/
CATEGORIES:Upcoming,Webinar
ATTACH;FMTTYPE=image/jpeg:https://nursinghome411.org/wp-content/uploads/2020/06/laptopphoto-e1592341849280.jpg
END:VEVENT
END:VCALENDAR