BEGIN:VCALENDAR
VERSION:2.0
PRODID:-//NursingHome411 - ECPv6.14.2//NONSGML v1.0//EN
CALSCALE:GREGORIAN
METHOD:PUBLISH
X-ORIGINAL-URL:https://nursinghome411.org
X-WR-CALDESC:Events for NursingHome411
REFRESH-INTERVAL;VALUE=DURATION:PT1H
X-Robots-Tag:noindex
X-PUBLISHED-TTL:PT1H
BEGIN:VTIMEZONE
TZID:America/New_York
BEGIN:DAYLIGHT
TZOFFSETFROM:-0500
TZOFFSETTO:-0400
TZNAME:EDT
DTSTART:20240310T070000
END:DAYLIGHT
BEGIN:STANDARD
TZOFFSETFROM:-0400
TZOFFSETTO:-0500
TZNAME:EST
DTSTART:20241103T060000
END:STANDARD
END:VTIMEZONE
BEGIN:VEVENT
DTSTART;TZID=America/New_York:20241022T130000
DTEND;TZID=America/New_York:20241022T140000
DTSTAMP:20260419T083904
CREATED:20240911T171418Z
LAST-MODIFIED:20241003T135056Z
UID:21809-1729602000-1729605600@nursinghome411.org
SUMMARY:October 2024 Webinar
DESCRIPTION:Date: October 22\, 2024 at 1pm ET\nTopic: PEDAL: A Grass Roots Solution to Improving Long-Term Care\nRegister: https://bit.ly/oct-2024-webinar
URL:https://nursinghome411.org/event/oct-2024-webinar/
CATEGORIES:Upcoming,Webinar
ATTACH;FMTTYPE=image/jpeg:https://nursinghome411.org/wp-content/uploads/2020/06/laptopphoto-e1592341849280.jpg
END:VEVENT
END:VCALENDAR