BEGIN:VCALENDAR
VERSION:2.0
PRODID:-//NursingHome411 - ECPv6.14.2//NONSGML v1.0//EN
CALSCALE:GREGORIAN
METHOD:PUBLISH
X-ORIGINAL-URL:https://nursinghome411.org
X-WR-CALDESC:Events for NursingHome411
REFRESH-INTERVAL;VALUE=DURATION:PT1H
X-Robots-Tag:noindex
X-PUBLISHED-TTL:PT1H
BEGIN:VTIMEZONE
TZID:America/New_York
BEGIN:DAYLIGHT
TZOFFSETFROM:-0500
TZOFFSETTO:-0400
TZNAME:EDT
DTSTART:20230312T070000
END:DAYLIGHT
BEGIN:STANDARD
TZOFFSETFROM:-0400
TZOFFSETTO:-0500
TZNAME:EST
DTSTART:20231105T060000
END:STANDARD
END:VTIMEZONE
BEGIN:VEVENT
DTSTART;TZID=America/New_York:20230525T120000
DTEND;TZID=America/New_York:20230525T130000
DTSTAMP:20260421T111817
CREATED:20230427T173923Z
LAST-MODIFIED:20230525T174006Z
UID:17734-1685016000-1685019600@nursinghome411.org
SUMMARY:LTCCC Family Empower Half Hour: Let's Talk About Family Councils
DESCRIPTION:We encourage family members and advocates from New York and across the US to join us and participate in our next Family Empower Half Hour on Thursday\, May 25 at 12pm (ET). Here’s how… \n1) Register for the Zoom meeting at https://nursinghome411.zoom.us/meeting/register/tZUpdeupqzwoHdHyWkhk-y7UR7KiGwvIIuGo#/registration or like us on Facebook to watch on Facebook Live. \n1a) Submit a question about family councils via Zoom or email it to families@ltccc.org.  \n2) Look out for a confirmation email from LTCCC Family Empowerment. This email will include include the login link. Outlook users: If you don’t see the email\, please check your “Other” tab. \n3) Click the login link Thursday at 12pm ET. \nNote: The program will be livestreamed and recorded. We encourage participation but please note that comments and questions will be public. You are also welcome to just watch! \nPS. Check out our family council resource page (nursinghome411.org/families) for tips on building family councils and for free resources to empower your resident-centered advocacy.
URL:https://nursinghome411.org/event/empower-may-2023/
CATEGORIES:Upcoming,Webinar
ATTACH;FMTTYPE=image/png:https://nursinghome411.org/wp-content/uploads/2022/03/Copy-of-Cover-Only-Family-Council-Resource-Packet-e1690987048814.png
END:VEVENT
END:VCALENDAR