BEGIN:VCALENDAR
VERSION:2.0
PRODID:-//NursingHome411 - ECPv6.14.2//NONSGML v1.0//EN
CALSCALE:GREGORIAN
METHOD:PUBLISH
X-ORIGINAL-URL:https://nursinghome411.org
X-WR-CALDESC:Events for NursingHome411
REFRESH-INTERVAL;VALUE=DURATION:PT1H
X-Robots-Tag:noindex
X-PUBLISHED-TTL:PT1H
BEGIN:VTIMEZONE
TZID:America/New_York
BEGIN:DAYLIGHT
TZOFFSETFROM:-0500
TZOFFSETTO:-0400
TZNAME:EDT
DTSTART:20230312T070000
END:DAYLIGHT
BEGIN:STANDARD
TZOFFSETFROM:-0400
TZOFFSETTO:-0500
TZNAME:EST
DTSTART:20231105T060000
END:STANDARD
END:VTIMEZONE
BEGIN:VEVENT
DTSTART;TZID=America/New_York:20230516T130000
DTEND;TZID=America/New_York:20230516T140000
DTSTAMP:20260419T114123
CREATED:20221220T172327Z
LAST-MODIFIED:20230516T132109Z
UID:17700-1684242000-1684245600@nursinghome411.org
SUMMARY:The Other 51 Weeks: Nursing Home Quality Improvement When Inspectors Have Left the Building
DESCRIPTION:The Other 51 Weeks: Nursing Home Quality Improvement When Inspectors Have Left the Building \nDate: Tuesday\, May 16\, 1pm (ET) \nRegistration: https://bit.ly/nh411-may2023
URL:https://nursinghome411.org/event/may-2023-webinar/
LOCATION:Zoom
CATEGORIES:Upcoming,Webinar
ATTACH;FMTTYPE=image/jpeg:https://nursinghome411.org/wp-content/uploads/2022/05/iStock-1284252726.jpg
END:VEVENT
END:VCALENDAR