BEGIN:VCALENDAR
VERSION:2.0
PRODID:-//NursingHome411 - ECPv6.14.2//NONSGML v1.0//EN
CALSCALE:GREGORIAN
METHOD:PUBLISH
X-ORIGINAL-URL:https://nursinghome411.org
X-WR-CALDESC:Events for NursingHome411
REFRESH-INTERVAL;VALUE=DURATION:PT1H
X-Robots-Tag:noindex
X-PUBLISHED-TTL:PT1H
BEGIN:VTIMEZONE
TZID:America/New_York
BEGIN:DAYLIGHT
TZOFFSETFROM:-0500
TZOFFSETTO:-0400
TZNAME:EDT
DTSTART:20200308T070000
END:DAYLIGHT
BEGIN:STANDARD
TZOFFSETFROM:-0400
TZOFFSETTO:-0500
TZNAME:EST
DTSTART:20201101T060000
END:STANDARD
END:VTIMEZONE
BEGIN:VEVENT
DTSTART;TZID=America/New_York:20200721T090000
DTEND;TZID=America/New_York:20200721T100000
DTSTAMP:20260419T080139
CREATED:20200715T010956Z
LAST-MODIFIED:20200722T182330Z
UID:8378-1595322000-1595325600@nursinghome411.org
SUMMARY:COVID-19: News\, Review\, and Resources
DESCRIPTION:COVID-19 has had a devastating impact on residents and care staff in nursing homes and other adult care facilities. This webinar (Tuesday July 21 at 1 p.m.) will provide an update on the latest news and discuss some of the policy proposals that are circulating to address the pandemic. \nTo join the webinar visit https://nursinghome411.zoom.us/j/92918385752?pwd=OXhpR0FFSXlLTXc4VnVQd0NiZFpaUT09. You may also call in to the webinar by dialing the following phone number based on your current location:\nUS: +1 312 626 6799 or +1 646 558 8656 or +1 301 715 8592 or +1 346 248 7799 or +1 669 900 9128 or +1 253 215 8782 \nIf prompted for Webinar ID\, enter 929 1838 5752. \nPlease email info@ltccc.org if you have any questions. \n+ Outlook Calendar
URL:https://nursinghome411.org/event/covid19-webinar-news-review-resources/
LOCATION:Zoom
CATEGORIES:Webinar
ATTACH;FMTTYPE=image/png:https://nursinghome411.org/wp-content/uploads/2020/03/coronavirus-pic.png
END:VEVENT
END:VCALENDAR